BEGIN:VCALENDAR
VERSION:2.0
PRODID:gruene-wesermarsch.de
METHOD:PUBLISH
BEGIN:VTIMEZONE
TZID:Europe/Berlin
X-LIC-LOCATION:Europe/Berlin
BEGIN:DAYLIGHT
TZOFFSETFROM:+0100
TZOFFSETTO:+0200
TZNAME:CEST
DTSTART:19700329T020000
RRULE:FREQ=YEARLY;INTERVAL=1;BYDAY=-1SU;BYMONTH=3
END:DAYLIGHT
BEGIN:STANDARD
TZOFFSETFROM:+0200
TZOFFSETTO:+0100
TZNAME:CET
DTSTART:19701025T030000
RRULE:FREQ=YEARLY;INTERVAL=1;BYDAY=-1SU;BYMONTH=10
END:STANDARD
END:VTIMEZONE
BEGIN:VEVENT
UID:3c1b39895b8dea2e1c89c0d6422d1a06@gruene-wesermarsch.de
URL;VALUE=URI:https://gruene-wesermarsch.de/termine/kreismitgliederversam
 mlung-8/
LOCATION:Gemeindehaus der evangelischen Kirche in Elsfleth, Nikolai-Platz
  3, Elsfelth
SUMMARY:Kreismitgliederversammlung
DESCRIPTION;ALTREP="data:text/html,%0A%3Cp%3EDer%20Kreisverband%20Weserma
 rsch%20von%20B%C3%9CNDNIS%2090%2FDIE%20GR%C3%9CNEN%20l%C3%A4dt%20alle%20M
 itglieder%20und%20Interessierte%20herzlich%20zur%20n%C3%A4chsten%20Kreism
 itgliederversammlung%20ein.%3C%2Fp%3E%0A%0A%0A%0A%3Cp%3EDie%20Kreismitgli
 ederversammlung%20ist%20das%20zentrale%20Gremium%20unseres%20Kreisverband
 s.%20Sie%20bietet%20Raum%20f%C3%BCr%20Austausch%20und%20Diskussion.%20Neb
 en%20aktuellen%20Berichten%20und%20inhaltlichen%20Debatten%20geht%20es%20
 darum%2C%20miteinander%20ins%20Gespr%C3%A4ch%20zu%20kommen%20und%20die%20
 Arbeit%20des%20Kreisverbands%20aktiv%20mitzugestalten.%3C%2Fp%3E%0A%0A%0A
 %0A%3Cp%3E%3Cstrong%3EDie%20Themen%20dieser%20Sitzung%20sind%20u.a.%20Bil
 anz%20der%20Kreistagsfraktion%2C%20Landratskandidaturen%20und%20Sachstand
 %20der%20Kommunalwahl%202026.%3C%2Fstrong%3E%3C%2Fp%3E%0A%0A%0A%0A%3Cp%3E
 Wir%20freuen%20uns%20auf%20eine%20lebendige%20Mitgliederversammlung%20und
 %20konstruktive%20Diskussionen.%3C%2Fp%3E%0A%0A%0A%0A%3Ch2%20class%3D%22w
 p-block-heading%22%3EAnmeldung%3A%3C%2Fh2%3E%0A%0A%0A%0A%3Cp%3E%C3%9Cber%
 20Anmeldungen%20an%20%3Ca%20href%3D%22mailto%3Agf.organisation%40gruene-w
 esermarsch.de%22%3Egf.organisation%40gruene-wesermarsch.de%3C%2Fa%3E%20fr
 euen%20wir%20uns%21%3C%2Fp%3E%0A%0A%0A%0A%3Cp%3E%3C%2Fp%3E%0A":Der Kreisv
 erband Wesermarsch von BÜNDNIS 90/DIE GRÜNEN lädt alle Mitglieder und 
 Interessierte herzlich zur nächsten Kreismitgliederversammlung ein.\n\nD
 ie Kreismitgliederversammlung ist das zentrale Gremium unseres Kreisverba
 nds. Sie bietet Raum für Austausch und Diskussion. Neben aktuellen Beric
 hten und inhaltlichen Debatten geht es darum\, miteinander ins Gespräch 
 zu kommen und die Arbeit des Kreisverbands aktiv mitzugestalten.\n\nDie T
 hemen dieser Sitzung sind u.a. Bilanz der Kreistagsfraktion\, Landratskan
 didaturen und Sachstand der Kommunalwahl 2026.\n\nWir freuen uns auf eine
  lebendige Mitgliederversammlung und konstruktive Diskussionen.\n\nAnmeld
 ung:\n\nÜber Anmeldungen an gf.organisation@gruene-wesermarsch.de freuen
  wir uns!
CLASS:PUBLIC
DTSTART;TZID=Europe/Berlin:20260506T183000
DTEND;TZID=Europe/Berlin:20260506T210000
DTSTAMP:20260423T105407
END:VEVENT
END:VCALENDAR